BEGIN:VCALENDAR
VERSION:2.0
PRODID:-//Rochester Birding Association - ECPv6.15.20//NONSGML v1.0//EN
CALSCALE:GREGORIAN
METHOD:PUBLISH
X-WR-CALNAME:Rochester Birding Association
X-ORIGINAL-URL:https://rochesterbirding.org
X-WR-CALDESC:Events for Rochester Birding Association
REFRESH-INTERVAL;VALUE=DURATION:PT1H
X-Robots-Tag:noindex
X-PUBLISHED-TTL:PT1H
BEGIN:VTIMEZONE
TZID:America/New_York
BEGIN:DAYLIGHT
TZOFFSETFROM:-0500
TZOFFSETTO:-0400
TZNAME:EDT
DTSTART:20200308T070000
END:DAYLIGHT
BEGIN:STANDARD
TZOFFSETFROM:-0400
TZOFFSETTO:-0500
TZNAME:EST
DTSTART:20201101T060000
END:STANDARD
BEGIN:DAYLIGHT
TZOFFSETFROM:-0500
TZOFFSETTO:-0400
TZNAME:EDT
DTSTART:20210314T070000
END:DAYLIGHT
BEGIN:STANDARD
TZOFFSETFROM:-0400
TZOFFSETTO:-0500
TZNAME:EST
DTSTART:20211107T060000
END:STANDARD
BEGIN:DAYLIGHT
TZOFFSETFROM:-0500
TZOFFSETTO:-0400
TZNAME:EDT
DTSTART:20220313T070000
END:DAYLIGHT
BEGIN:STANDARD
TZOFFSETFROM:-0400
TZOFFSETTO:-0500
TZNAME:EST
DTSTART:20221106T060000
END:STANDARD
END:VTIMEZONE
BEGIN:VEVENT
DTSTART;TZID=America/New_York:20210408T190000
DTEND;TZID=America/New_York:20210408T210000
DTSTAMP:20260421T112218
CREATED:20210308T224118Z
LAST-MODIFIED:20210308T224118Z
UID:10000402-1617908400-1617915600@rochesterbirding.org
SUMMARY:April Meeting via Zoom!: Alicia Rae Brunner\, Cornell University - "Findings on Migratory Bird Behavior Under a Changing Climate"
DESCRIPTION:This meeting will only be conducted via Zoom. A URL link to the meeting will be emailed out before the meeting. To participate\, you will need a laptop\, desk top computer\, cell phone or iPad or other device with an internet connection. You do not need to have a Zoom account\, the URL link will allow you to enter the “meeting” and hear and see the speaker and the presentation.  \nAlicia Rae Brunner will first talk about her Masters project\, in which she studied Swainson’s Warbler winter ecology in Jamaica and demonstrated how individuals modified their space use in response to rainfall change throughout the nonbreeding season. She will then discuss her current Ph.D. work on the behaviors of Black-throated blue warblers in New Hampshire\, where she intends to gain a better understanding of the impacts of observed climate change trends in northern forests on the timing of breeding and migration of migratory birds. \nAlicia Rae Brunner is a Ph.D. student at Cornell University and the Lab of Ornithology researching the effects of climate change on migratory bird behavior. She currently studies Black-throated Blue Warblers on the breeding grounds in New Hampshire to understand how individual birds may respond to changing environmental conditions. In 2012\, she graduated with her B.Sc. from UW-Green Bay after completing an undergraduate project on Eastern Bluebird nest box usage. The beautiful Bluebirds got her hooked and she has been chasing birds ever since! She traveled to places like the Big Island of Hawaii and the Gulf Coast of Alabama to work on an array of avian research projects before starting her Masters at Ohio State in 2015. There\, she studied various aspects of Swainson’s Warbler winter ecology; specifically\, how they respond to rainfall fluctuations throughout the winter. While in Jamaica\, she also worked with American Redstarts on the long-term research project with the Smithsonian Migratory Bird Center\, one of the studies that kick-started our understanding of the importance of studying nonbreeding migratory birds. She enjoys birding (obviously!)\, hiking\, traveling\, and spending time in nature. Ultimately\, she hopes her research will be valuable in our understanding and protection of migratory bird populations now and into the future. \n 
URL:https://rochesterbirding.org/event/december-meeting-tom-snyder-nature-zoos-and-conservation-2-2-3-2-2-2-2-2-2-2/
CATEGORIES:Monthly Meetings/Speakers
ATTACH;FMTTYPE=:
END:VEVENT
BEGIN:VEVENT
DTSTART;TZID=America/New_York:20210409T190000
DTEND;TZID=America/New_York:20210409T210000
DTSTAMP:20260421T112218
CREATED:20201214T014149Z
LAST-MODIFIED:20201214T014149Z
UID:10000360-1617994800-1618002000@rochesterbirding.org
SUMMARY:Woodcock Courtship Flight at Braddock Bay Bird Observatory Field Trip - Registration Opens April 2\, 2021
DESCRIPTION:This will be an evening trip for woodcock courtship flight.  If you’ve never seen this spectacle\, prepare to be amazed: birds call noisily from the ground in grassy fields before spiraling rapidly up high\, descending back down in a zigzagging noisy frenzy\, only to start the cycle anew.  An amazing sight!  Following the Woodcock display\, owl banding is a possibility at the banding station. Fields may be wet and muddy in spots. Boots are STRONGLY recommended.  Bring a flashlight or headlamp. Port-a-john available. \nWe will meet at 7:00 p.m. in the parking lot of Braddock Bay Bird Observatory\, 10 Braddocks Avenue\, Hilton\, NY 14468.  Take the Manitou Beach Road exit from Ontario State Parkway.  Turn north and follow Manitou Beach Road until it forks.  Take the left fork to the small dirt road (there is a sign for BBBO).  The parking lot is at the end of the dirt road. \nCOVID-19 Policies and Procedures \nDue to the novel coronavirus pandemic\, the Rochester Birding Association is instituting the following procedures for all field trips. By registering for this field trip\, you acknowledge that you have read and will abide by these policies. \nRegistration Policies: \n\nAdvance registration through Eventbrite is required in order to attend the trip. NYS guidelines for the allowable number of attendees at an outdoor gathering change frequently.  Exact capacity limits will be determined on a trip by trip basis\, and they may be subject to change.\nIndividuals who did not pre-register will not be allowed to attend the field trip.\nShould you decide not to attend the trip\, we encourage you to cancel your reservation to make room for others. Canceling is easily done through the Eventbrite website; see your confirmation email for details.\n\nHealth Screening Considerations: \n\nFull contact information is required at registration\, in case contact tracing is requested.\nNo one who has a temperature of 100.4F or greater (without having taken any fever-reducing medications) should attend.\nNo one who has any COVID-19 symptoms (fever\, cough\, shortness of breath or difficulty breathing\, chills\, muscle pain\, sore throat\, or loss of taste or smell) should attend.\nNo one who has tested positive for COVID-19 in the past 14 days or who has been instructed to self-isolate or quarantine should attend.\nNo one who has been in close (within 6 feet) or proximate (same closed environment\, but greater than 6 feet) contact with anyone who has tested positive for COVID-19 or who has had symptoms of COVID-19 within the past 14 days\, should attend.\nNo one who has traveled or who lives with someone who has traveled to a country or state on the New York coronavirus travel advisory list in the last 14 days should attend.\nParticipants who test positive for the coronavirus within 14 days after attending a field trip are encouraged to contact the RBA.\n\nSocial Distancing and Safety Best Practices \n\nParticipants will be required to stay 6 feet apart at all times and wear a mask whenever they are outside of their car.\nParticipants that reside in the same household may share binoculars or scopes\, but we regret that otherwise optics cannot be shared. We realize this may be frustrating for those who do not have their own spotting scopes. To the extent possible\, we will choose birding locations that do not require advanced optics.\nParticipants are encouraged to keep hand sanitizer with them in case of accidental contact.\n\nWaive and Release from Liability: By registering for this field trip you acknowledge that you assume all risks and hazards incidental to the activities of the event\, including potential exposure to the novel coronavirus. You further release\, absolve\, hold harmless\, defend and indemnify the Rochester Birding Association\, Inc. and all individually named organizers\, leaders\, and participants of the event. In case of injury\, you hereby waive all claims against all organizers\, leaders\, and participants. \nPhoto/Video Waiver: If you do not consent to have your image used by the RBA in the manner next described\, check the appropriate box on the registration form. Otherwise\, by registering for this field trip you hereby grant permission to the Rochester Birding Association to take and publish photos or videos of you in connection with the event listed above\, with or without your name and for any lawful purpose including for example such purposes as publicity\, illustration\, advertising\, and web content. \n 
URL:https://rochesterbirding.org/event/owl-woods-pear-orchard-woodcock-courtship-flight-field-trip-3-2-2-2/
LOCATION:Braddock Bay Bird Observatory\, 10 Braddocks Avenue\, Hilton\, NY\, 14468\, United States
CATEGORIES:Field Trips
ATTACH;FMTTYPE=:
END:VEVENT
BEGIN:VEVENT
DTSTART;TZID=America/New_York:20210417T080000
DTEND;TZID=America/New_York:20210417T110000
DTSTAMP:20260421T112218
CREATED:20201214T014600Z
LAST-MODIFIED:20201214T014600Z
UID:10000361-1618646400-1618657200@rochesterbirding.org
SUMMARY:High Acres Nature Area Field Trip - Registration Opens April 10\, 2021
DESCRIPTION:Over 130 bird species have been observed at HANA including more than 70 that nest in the diverse habitats found there.  During this field trip we expect to see at least 40 species returning to nest or on their way to northern nesting grounds.  Our approximately 2 mile walk over flat trails will explore about 250 acres at HANA and include some wet spots requiring ankle-high waterproof shoes or boots. No restrooms available. \nWe will meet at 8:00 a.m. at the parking lot on Perinton Parkway approximately 1/4 mile east of the Waste Management offices. \nCOVID-19 Policies and Procedures \nDue to the novel coronavirus pandemic\, the Rochester Birding Association is instituting the following procedures for all field trips. By registering for this field trip\, you acknowledge that you have read and will abide by these policies. \nRegistration Policies: \n\nAdvance registration through Eventbrite is required in order to attend the trip. NYS guidelines for the allowable number of attendees at an outdoor gathering change frequently.  Exact capacity limits will be determined on a trip by trip basis\, and they may be subject to change.\nIndividuals who did not pre-register will not be allowed to attend the field trip.\nShould you decide not to attend the trip\, we encourage you to cancel your reservation to make room for others. Canceling is easily done through the Eventbrite website; see your confirmation email for details.\n\nHealth Screening Considerations: \n\nFull contact information is required at registration\, in case contact tracing is requested.\nNo one who has a temperature of 100.4F or greater (without having taken any fever-reducing medications) should attend.\nNo one who has any COVID-19 symptoms (fever\, cough\, shortness of breath or difficulty breathing\, chills\, muscle pain\, sore throat\, or loss of taste or smell) should attend.\nNo one who has tested positive for COVID-19 in the past 14 days or who has been instructed to self-isolate or quarantine should attend.\nNo one who has been in close (within 6 feet) or proximate (same closed environment\, but greater than 6 feet) contact with anyone who has tested positive for COVID-19 or who has had symptoms of COVID-19 within the past 14 days\, should attend.\nNo one who has traveled or who lives with someone who has traveled to a country or state on the New York coronavirus travel advisory list in the last 14 days should attend.\nParticipants who test positive for the coronavirus within 14 days after attending a field trip are encouraged to contact the RBA.\n\nSocial Distancing and Safety Best Practices \n\nParticipants will be required to stay 6 feet apart at all times and wear a mask whenever they are outside of their car.\nParticipants that reside in the same household may share binoculars or scopes\, but we regret that otherwise optics cannot be shared. We realize this may be frustrating for those who do not have their own spotting scopes. To the extent possible\, we will choose birding locations that do not require advanced optics.\nParticipants are encouraged to keep hand sanitizer with them in case of accidental contact.\n\nWaive and Release from Liability: By registering for this field trip you acknowledge that you assume all risks and hazards incidental to the activities of the event\, including potential exposure to the novel coronavirus. You further release\, absolve\, hold harmless\, defend and indemnify the Rochester Birding Association\, Inc. and all individually named organizers\, leaders\, and participants of the event. In case of injury\, you hereby waive all claims against all organizers\, leaders\, and participants. \nPhoto/Video Waiver: If you do not consent to have your image used by the RBA in the manner next described\, check the appropriate box on the registration form. Otherwise\, by registering for this field trip you hereby grant permission to the Rochester Birding Association to take and publish photos or videos of you in connection with the event listed above\, with or without your name and for any lawful purpose including for example such purposes as publicity\, illustration\, advertising\, and web content. \n 
URL:https://rochesterbirding.org/event/trails-at-high-acres-nature-area-perinton-ponds-area-field-trip-2-2-2/
LOCATION:High Acres Nature Area (HANA)\, 425 Perinton Parkway\, Fairport\, NY\, 14450\, United States
CATEGORIES:Field Trips
ATTACH;FMTTYPE=:
GEO:43.084432;-77.38096
X-APPLE-STRUCTURED-LOCATION;VALUE=URI;X-ADDRESS=High Acres Nature Area (HANA) 425 Perinton Parkway Fairport NY 14450 United States;X-APPLE-RADIUS=500;X-TITLE=425 Perinton Parkway:geo:-77.38096,43.084432
END:VEVENT
BEGIN:VEVENT
DTSTART;TZID=America/New_York:20210421T080000
DTEND;TZID=America/New_York:20210421T110000
DTSTAMP:20260421T112218
CREATED:20201215T183515Z
LAST-MODIFIED:20201215T183515Z
UID:10000362-1618992000-1619002800@rochesterbirding.org
SUMMARY:Highland Park Field Trip - Registration Opens April 14\, 2021
DESCRIPTION:We’ll be looking for spring migrants while enjoying lovely flora.  This walk would be gorgeous even without the birds\, but it does have birds in abundance!  Find out where people have spotted the rarities that pop up in this urban treasure.  Dress for the weather. Paved walkways\, gentle hills. Walking in grass a possibility\, if you chose to. No restrooms available. \nMeet at 8:00 a.m. on Reservoir Avenue in front of the Conservatory building. \nCOVID-19 Policies and Procedures \nDue to the novel coronavirus pandemic\, the Rochester Birding Association is instituting the following procedures for all field trips. By registering for this field trip\, you acknowledge that you have read and will abide by these policies. \nRegistration Policies: \n\nAdvance registration through Eventbrite is required in order to attend the trip. NYS guidelines for the allowable number of attendees at an outdoor gathering change frequently.  Exact capacity limits will be determined on a trip by trip basis\, and they may be subject to change.\nIndividuals who did not pre-register will not be allowed to attend the field trip.\nShould you decide not to attend the trip\, we encourage you to cancel your reservation to make room for others. Canceling is easily done through the Eventbrite website; see your confirmation email for details.\n\nHealth Screening Considerations: \n\nFull contact information is required at registration\, in case contact tracing is requested.\nNo one who has a temperature of 100.4F or greater (without having taken any fever-reducing medications) should attend.\nNo one who has any COVID-19 symptoms (fever\, cough\, shortness of breath or difficulty breathing\, chills\, muscle pain\, sore throat\, or loss of taste or smell) should attend.\nNo one who has tested positive for COVID-19 in the past 14 days or who has been instructed to self-isolate or quarantine should attend.\nNo one who has been in close (within 6 feet) or proximate (same closed environment\, but greater than 6 feet) contact with anyone who has tested positive for COVID-19 or who has had symptoms of COVID-19 within the past 14 days\, should attend.\nNo one who has traveled or who lives with someone who has traveled to a country or state on the New York coronavirus travel advisory list in the last 14 days should attend.\nParticipants who test positive for the coronavirus within 14 days after attending a field trip are encouraged to contact the RBA.\n\nSocial Distancing and Safety Best Practices \n\nParticipants will be required to stay 6 feet apart at all times and wear a mask whenever they are outside of their car.\nParticipants that reside in the same household may share binoculars or scopes\, but we regret that otherwise optics cannot be shared. We realize this may be frustrating for those who do not have their own spotting scopes. To the extent possible\, we will choose birding locations that do not require advanced optics.\nParticipants are encouraged to keep hand sanitizer with them in case of accidental contact.\n\nWaive and Release from Liability: By registering for this field trip you acknowledge that you assume all risks and hazards incidental to the activities of the event\, including potential exposure to the novel coronavirus. You further release\, absolve\, hold harmless\, defend and indemnify the Rochester Birding Association\, Inc. and all individually named organizers\, leaders\, and participants of the event. In case of injury\, you hereby waive all claims against all organizers\, leaders\, and participants. \nPhoto/Video Waiver: If you do not consent to have your image used by the RBA in the manner next described\, check the appropriate box on the registration form. Otherwise\, by registering for this field trip you hereby grant permission to the Rochester Birding Association to take and publish photos or videos of you in connection with the event listed above\, with or without your name and for any lawful purpose including for example such purposes as publicity\, illustration\, advertising\, and web content. \n 
URL:https://rochesterbirding.org/event/highland-park-field-trip-4-2-2-2/
LOCATION:Highland Park\, Reservoir Avenue\, Rochester\, NY\, 14620\, United States
CATEGORIES:Field Trips
ATTACH;FMTTYPE=:
GEO:43.1318581;-77.6086903
X-APPLE-STRUCTURED-LOCATION;VALUE=URI;X-ADDRESS=Highland Park Reservoir Avenue Rochester NY 14620 United States;X-APPLE-RADIUS=500;X-TITLE=Reservoir Avenue:geo:-77.6086903,43.1318581
END:VEVENT
BEGIN:VEVENT
DTSTART;TZID=America/New_York:20210425T093000
DTEND;TZID=America/New_York:20210425T123000
DTSTAMP:20260421T112218
CREATED:20201214T020017Z
LAST-MODIFIED:20201214T020017Z
UID:10000363-1619343000-1619353800@rochesterbirding.org
SUMMARY:Braddock Bay Hawk Lookout Field Trip - Registration Opens April 18\, 2021
DESCRIPTION:This trip is for the spring hawk flight and migrating songbirds.  This is a joint trip with the Buffalo Ornithological Society.  We will be working to identify distant raptors and meet some great new people\, too! This requires a short walk across grass to the viewing platform (wheelchair accessible). Port-a-john may be available. \nMeet at 9:30 a.m. at the Braddock Bay Park main parking lot.  Use the East Manitou Road exit from the Ontario State Parkway. Spotting scopes would be very useful. \nCOVID-19 Policies and Procedures \nDue to the novel coronavirus pandemic\, the Rochester Birding Association is instituting the following procedures for all field trips. By registering for this field trip\, you acknowledge that you have read and will abide by these policies. \nRegistration Policies: \n\nAdvance registration through Eventbrite is required in order to attend the trip. NYS guidelines for the allowable number of attendees at an outdoor gathering change frequently.  Exact capacity limits will be determined on a trip by trip basis\, and they may be subject to change.\nIndividuals who did not pre-register will not be allowed to attend the field trip.\nShould you decide not to attend the trip\, we encourage you to cancel your reservation to make room for others. Canceling is easily done through the Eventbrite website; see your confirmation email for details.\n\nHealth Screening Considerations: \n\nFull contact information is required at registration\, in case contact tracing is requested.\nNo one who has a temperature of 100.4F or greater (without having taken any fever-reducing medications) should attend.\nNo one who has any COVID-19 symptoms (fever\, cough\, shortness of breath or difficulty breathing\, chills\, muscle pain\, sore throat\, or loss of taste or smell) should attend.\nNo one who has tested positive for COVID-19 in the past 14 days or who has been instructed to self-isolate or quarantine should attend.\nNo one who has been in close (within 6 feet) or proximate (same closed environment\, but greater than 6 feet) contact with anyone who has tested positive for COVID-19 or who has had symptoms of COVID-19 within the past 14 days\, should attend.\nNo one who has traveled or who lives with someone who has traveled to a country or state on the New York coronavirus travel advisory list in the last 14 days should attend.\nParticipants who test positive for the coronavirus within 14 days after attending a field trip are encouraged to contact the RBA.\n\nSocial Distancing and Safety Best Practices \n\nParticipants will be required to stay 6 feet apart at all times and wear a mask whenever they are outside of their car.\nParticipants that reside in the same household may share binoculars or scopes\, but we regret that otherwise optics cannot be shared. We realize this may be frustrating for those who do not have their own spotting scopes. To the extent possible\, we will choose birding locations that do not require advanced optics.\nParticipants are encouraged to keep hand sanitizer with them in case of accidental contact.\n\nWaive and Release from Liability: By registering for this field trip you acknowledge that you assume all risks and hazards incidental to the activities of the event\, including potential exposure to the novel coronavirus. You further release\, absolve\, hold harmless\, defend and indemnify the Rochester Birding Association\, Inc. and all individually named organizers\, leaders\, and participants of the event. In case of injury\, you hereby waive all claims against all organizers\, leaders\, and participants. \nPhoto/Video Waiver: If you do not consent to have your image used by the RBA in the manner next described\, check the appropriate box on the registration form. Otherwise\, by registering for this field trip you hereby grant permission to the Rochester Birding Association to take and publish photos or videos of you in connection with the event listed above\, with or without your name and for any lawful purpose including for example such purposes as publicity\, illustration\, advertising\, and web content. \n 
URL:https://rochesterbirding.org/event/braddock-bay-hawk-lookout-field-trip-4-2-2-2/
LOCATION:Braddock Bay Park\, 199 East Manitou Road\, Greece\, NY\, 14612\, United States
CATEGORIES:Field Trips
ATTACH;FMTTYPE=:
GEO:43.300935;-77.717263
X-APPLE-STRUCTURED-LOCATION;VALUE=URI;X-ADDRESS=Braddock Bay Park 199 East Manitou Road Greece NY 14612 United States;X-APPLE-RADIUS=500;X-TITLE=199 East Manitou Road:geo:-77.717263,43.300935
END:VEVENT
END:VCALENDAR