BEGIN:VCALENDAR
VERSION:2.0
PRODID:-//Rochester Birding Association - ECPv6.15.20//NONSGML v1.0//EN
CALSCALE:GREGORIAN
METHOD:PUBLISH
X-ORIGINAL-URL:https://rochesterbirding.org
X-WR-CALDESC:Events for Rochester Birding Association
REFRESH-INTERVAL;VALUE=DURATION:PT1H
X-Robots-Tag:noindex
X-PUBLISHED-TTL:PT1H
BEGIN:VTIMEZONE
TZID:America/New_York
BEGIN:DAYLIGHT
TZOFFSETFROM:-0500
TZOFFSETTO:-0400
TZNAME:EDT
DTSTART:20230312T070000
END:DAYLIGHT
BEGIN:STANDARD
TZOFFSETFROM:-0400
TZOFFSETTO:-0500
TZNAME:EST
DTSTART:20231105T060000
END:STANDARD
BEGIN:DAYLIGHT
TZOFFSETFROM:-0500
TZOFFSETTO:-0400
TZNAME:EDT
DTSTART:20240310T070000
END:DAYLIGHT
BEGIN:STANDARD
TZOFFSETFROM:-0400
TZOFFSETTO:-0500
TZNAME:EST
DTSTART:20241103T060000
END:STANDARD
BEGIN:DAYLIGHT
TZOFFSETFROM:-0500
TZOFFSETTO:-0400
TZNAME:EDT
DTSTART:20250309T070000
END:DAYLIGHT
BEGIN:STANDARD
TZOFFSETFROM:-0400
TZOFFSETTO:-0500
TZNAME:EST
DTSTART:20251102T060000
END:STANDARD
END:VTIMEZONE
BEGIN:VEVENT
DTSTART;TZID=America/New_York:20241212T190000
DTEND;TZID=America/New_York:20241212T210000
DTSTAMP:20260425T094839
CREATED:20231219T012119Z
LAST-MODIFIED:20240111T202023Z
UID:10000740-1734030000-1734037200@rochesterbirding.org
SUMMARY:December:  Dr. Elsie Shogren - "The moment of truth for speciation: Myzomela honeyeaters in the Solomon Islands"
DESCRIPTION:Thursday\, December 12\, 2024\nSpeaker:  Dr. Elsie Shogren – “The moment of truth for speciation: Myzomela honeyeaters in the Solomon Islands” \nDr. Elsie Shogren grew up exploring muddy creeks and observing wildlife around the family farm in Nebraska. She channeled her fascination with biology as an undergraduate at Cornell University\, where she discovered field work and ornithology collecting data on Tree Swallows in Ithaca\, NY and Alberta\, Canada. After graduating\, Elsie continued developing her research interests\, assisting with projects on Red-backed Fairywrens in Australia\, Greater Prairie Chickens in Nebraska\, and Piping Plovers in South Dakota. Deciding to focus on the interplay of sexual and natural selection for her PhD at Kansas State University\, she studied the consequences of rainfall for survival\, behavior\, and evolution in sexually-selected Neotropical Manakins. As a postdoctoral researcher at the University of Rochester\, Elsie is now exploring the genetic\, ecological\, and behavioral factors that maintain species boundaries between two Myzomela honeyeaters that have recently come into contact and are hybridizing in the Solomon Islands of the south Pacific. \n  \nLook for the Zoom link in your email a few days prior to the meeting. The Zoom Room will open at 6:45 PM.  Don’t wait until the last minute to sign on\, you might be left out!
URL:https://rochesterbirding.org/event/december-meeting-in-person-via-zoom-with-speaker-else-shogren/
LOCATION:Asbury First Methodist Church\, 1050 East Avenue\, Rochester\, NY\, 14607\, United States
CATEGORIES:Monthly Meetings/Speakers
ATTACH;FMTTYPE=image/jpeg:https://rochesterbirding.org/wp-content/uploads/2023/12/Elsie-Shogren-new.jpg
GEO:43.15146893954345;-77.57659728969496
X-APPLE-STRUCTURED-LOCATION;VALUE=URI;X-ADDRESS=Asbury First Methodist Church 1050 East Avenue Rochester NY 14607 United States;X-APPLE-RADIUS=500;X-TITLE=1050 East Avenue:geo:-77.57659728969496,43.15146893954345
END:VEVENT
END:VCALENDAR